BEGIN:VCALENDAR
VERSION:2.0
CALSCALE:GREGORIAN
PRODID:-//MyApp//Calendar 1.0//EN
BEGIN:VEVENT
METHOD:PUBLISH
UID:52973@regionalniportaly.cz
DTSTAMP:20260422T073910Z
DTSTART;VALUE=DATE:20250412
DTEND;VALUE=DATE:20250413
SUMMARY:Grand food piknik Plzeňského kraje\, klášter Chotěšov
DESCRIPTION:Milovníci dobrého jídla a zábavy\, pozor!&nbsp\;&nbsp\;Těšíte se na jaro? Máte rádi dobré jídlo?&nbsp\;&nbsp\;Tak to si nenechte ujít Street Food Festival Chotěšov\, který se uskuteční v sobotu 12. dubna 2025 a slibuje explozi chutí a zábavy!Připravte se na:Voňavé aroma grilovaných specialit se linoucí z rozpálených pánví\, které probudí vaše chuťové pohárky k životu.Ochutnejte šťavnaté burgery\, křupavé klobásky\, lahodné grilované zeleniny a další delikatesy z celého světa.Širokou nabídku pivních speciálů\, osvěžujících vín a lahodných koktejlů\, které perfektně doladí váš gastronomický zážitek.&nbsp\;Sladké tečky v podobě lahodných dezertů a zákusků\, které uspokojí i ty nejmlsnější jazýčky.Bohatý hudební program se třemi kapelami\, které roztančí vaše nohy a rozproudí skvělou atmosféru.Pohádky pro nejmenší od 14 hodin\, které zabaví vaše ratolesti a dopřejí vám chvilku klidného posezení.Těšíme se na vás v krásném prostředí parku Chotěšovského kláštera!Pro více informací nás sledujte na této události.Vstupné:150 Kč/ Kč 120 v předprodeji100 Kč děti od 9 letZvýhodněný předprodej v síti smsticket. cz
LOCATION:Chotěšov
END:VEVENT
END:VCALENDAR