BEGIN:VCALENDAR
VERSION:2.0
CALSCALE:GREGORIAN
PRODID:-//MyApp//Calendar 1.0//EN
BEGIN:VEVENT
METHOD:PUBLISH
UID:60510@regionalniportaly.cz
DTSTAMP:20260424T104603Z
DTSTART;VALUE=DATE:20261031
DTEND;VALUE=DATE:20261101
SUMMARY:Koncert Karel Kahovec\, Michal Šindelář\, The Beatles Revival
DESCRIPTION:Narozeninový koncert legendárního Karla Kahovce 2026!&nbsp\;v sobotu 31.10.2026 od 20:00 v Kulturním Domě v Mrákověkombinované stání &nbsp\;sezení tanec&nbsp\;Zveme vás na výjimečný hudební večer\, kde své životní jubileum oslaví nezaměnitelný&nbsp\;Karel Kahovec&nbsp\;– ikona českého bigbítu a jeden z nejvýraznějších hlasů své generace.Na jednom pódiu se představí společně se skupinou&nbsp\;The Beatles Revival\, která koncert obohatí o nesmrtelné hity slavných „Brouků“.Můžete se těšit na největší Kahovcovy písně\, mezi nimi například:Háj ModřínůPaní v černémSvou lásku jsem rozdalPoprava blond holkyA samozřejmě nebudou chybět legendární skladby&nbsp\;The Beatles\, které dodají večeru jedinečnou atmosféru.Jako vzácný host koncertu se představí bývalý bubeník legendárního Katapultu -&nbsp\;Michal Šindelář&nbsp\;s fláky od&nbsp\;Katapultu a svým jedinečným hitem&nbsp\;Hořely Padaly HvězdySoučástí koncertu bude také&nbsp\;vzpomínka na Petra Nováka\, jednoho z největších hlasů české hudby. Připomeneme si jeho nezapomenutelné hity:PovídejHvězdičko blýskaváJá budu chodit po špičkáchNáhrobní kámenPřijďte zažít večer plný emocí\, velkých hitů a pocty třem hudebním legendám.Tahle narozeninová oslava bude stát za to!&nbsp\;V případě eventuálního úmrtí Karla Kahovce (např. předávkování Viagrou) se koncert koná jako vzpomínka na Karla.
LOCATION:Mrákov
END:VEVENT
END:VCALENDAR