BEGIN:VCALENDAR
VERSION:2.0
CALSCALE:GREGORIAN
PRODID:-//MyApp//Calendar 1.0//EN
BEGIN:VEVENT
METHOD:PUBLISH
UID:65417@regionalniportaly.cz
DTSTAMP:20260421T020001Z
DTSTART;VALUE=DATE:20260606
DTEND;VALUE=DATE:20260607
SUMMARY:Na louce - Jiří Schmitzer
DESCRIPTION:Jiří Schmitzer je stálice české divadelní scény – absolvent DAMU\, dlouholetý člen legendárního Studia Ypsilon a především osobnost\, která si vždycky šla vlastní cestou. Bez okázalosti\, bez pozlátka… ale o to víc poctivě. Človíček\, který si nikdy neřekl o pozornost… a přesto ji má. Ne proto\, že by chtěl zaujmout. Ale proto\, že to jinak neumí než opravdově.Schmitzerův projev je nenápadný\, lehce rozpačitý\, občas odzbrojující — a právě proto tak silný. Drsný romantik s duší kluka\, který si na nic nehraje… a o to víc vás dostane.Zapomeňte na dokonale vyladěné koncerty.Zapomeňte na pozlátko\, pózy a „jistoty“.Tady se bude hrát zcela jinak.Bez efektů. Bez přetvářky. Bez jistoty.Jen člověk\, kytara a pravda mezi tím.Kde:- open air miniscéna v parčíku ve Školní ulici (za hotelem Jitřenka)- částečně kryté hlediště- při velmi nepříznivém počasí se přesouváme do kulturního domuPŘEDPRODEJ NA SMSTICKET*prvních 20 vstupenek zlevněných … neváhejteVstup otevřen od 19.00 hodin
LOCATION:Konstantinovy Lázně
END:VEVENT
END:VCALENDAR