BEGIN:VCALENDAR
VERSION:2.0
CALSCALE:GREGORIAN
PRODID:-//MyApp//Calendar 1.0//EN
BEGIN:VEVENT
METHOD:PUBLISH
UID:65476@regionalniportaly.cz
DTSTAMP:20260421T003659Z
DTSTART;VALUE=DATE:20261031
DTEND;VALUE=DATE:20261101
SUMMARY:NOC LEGEND v Konstantinkách 2026
DESCRIPTION:Dámy a pánové\, milovníci českého rocku\, dobré muziky a výjimečných koncertních večerů… pozor\, pozor!Do Konstantinových Lázní se vrací opět po roce noc\, která má zvuk\, sílu a tradici!NOC LEGEND V KONSTANTINÁCH 2026 je tady a s ní už XII. ročník akce\, která si za ta léta získala své pevné místo v koncertním kalendáři.A letos? Letos to bude zase stát za to!Na jednom pódiu\, v jednom večeru\, v jednom hudebním tahu se představí dvě skvělá jména české scény.19:30 h. LUBOŠ POSPÍŠIL se skupinou 5P — charismatický zpěvák\, výrazná osobnost českého rocku a autor písní\, které mají hloubku\, sílu i nezaměnitelnou atmosféru.Tohle je muzika\, která nestárne.Tohle jsou písně\, které se neposlouchají jen ušima\, ale i srdcem!A jedeme dál!21:30 h. KRAUSBERRY — legenda českého bluesrocku\, kapela s osobitým zvukem\, nadhledem a energií\, která umí publikum rozhýbat během pár tónů.Jejich koncerty mají šťávu\, drajv a tu správnou klubovou i pódiovou chemii.Zkrátka koncert\, u kterého nezůstanete jen sedět a koukat!A kde se tenhle hudební svátek odehraje?V prostorách KD Konstantinovy Lázně\, které k podobným akcím prostě zrozené. Příjemné prostředí\, skvělá koncertní atmosféra a navíc kouzlo lázeňského místa\, které dodává celé akci jedinečný rámec.Hudba\, emoce\, energie… a večer\, který bude mít styl!Předprodej zde v plném prouduTakže žádné váhání\, žádné „uvidíme“\, žádné „ještě je čas“.Je čas právě teď!Kliknout. Koupit. Dorazit. Užít si to naplno!Přijďte si užít noc\, kdy budou hrát legendy\, zpívat sál a nálada poletí vzhůru!TUTO se musí zažít naživo!Sál se pro veřejnost otevírá v 18:45 hodin!NOC LEGEND V KONSTANTINÁCH 2026Dvě kapely. Jeden večer. Spousta emocí. A vzpomínky\, které jen tak nevyprchají.Tak co — budete u toho?
LOCATION:Konstantinovy Lázně
END:VEVENT
END:VCALENDAR