BEGIN:VCALENDAR
VERSION:2.0
CALSCALE:GREGORIAN
PRODID:-//MyApp//Calendar 1.0//EN
BEGIN:VEVENT
METHOD:PUBLISH
UID:65477@regionalniportaly.cz
DTSTAMP:20260421T003647Z
DTSTART;VALUE=DATE:20260801
DTEND;VALUE=DATE:20260802
SUMMARY:LÁZEŇSKÁ STRUNA 2026
DESCRIPTION:LÁZEŇSKÁ STRUNA 2026 – KONSTANTINOVY LÁZNĚ - XXIV. ročníkSobota 1. srpna 2026&nbsp\;Open air u KD (při dešťové předpovědi v KD)Začínáme ve 14:00&nbsp\;Přijďte se zchladit do světa country\, folku a muzikantské pohody! Do malebných Konstantinových Lázní letos dorazí samá hudební smetánka – taková sestava hvězd se na jedné scéně nevidí každý den!&nbsp\;14:00–15:00 Vojta Kiďák TomáškoVojta Kiďák Tomáško patří k výrazným osobnostem české folkové a trampské scény. Jeho vystoupení v sobě spojuje poctivé písničkářství\, příjemný humor\, životní nadhled i atmosféru\, která dokáže publikum rychle vtáhnout. Jeho písně mají blízko k příběhům\, obyčejným lidským radostem i nostalgii\, která k tomuto žánru neodmyslitelně patří. Naživo dokáže vytvořit pohodovou\, přátelskou náladu a přesně ten typ koncertního setkání\, kdy si posluchači nejen zazpívají\, ale hlavně si ten společný čas opravdu užijí.15:20–16:30 CopSkupina Cop je stálicí české country a folkové scény a už řadu let si drží své pevné místo mezi oblíbenými kapelami tohoto žánru. Jejich hudba stojí na chytlavých melodiích\, sehraném muzikantském projevu a písních\, které mají srdce\, tah i příjemnou dávku muzikantské poctivosti. Cop umí nabídnout jak energičtější momenty\, tak i klidnější\, náladové skladby\, které potěší každého\, kdo má rád českou country a folk v jejich ryzí podobě. Jejich koncerty bývají příjemným setkáním s muzikou\, která nestárne.17:00–18:10 Slávek Janoušek s kapelouSlávek Janoušek je písničkář\, kterého si posluchači oblíbili pro jeho osobitý styl\, chytré texty\, jemný humor i schopnost vystihnout běžné životní situace s lehkostí a nadhledem. Jeho písně jsou poetické\, lidské a často i mile úsměvné\, přesto v sobě nesou hloubku a opravdovost. Ve spojení s kapelou dostávají jeho skladby další energii a barevnost\, aniž by ztratily svou přirozenou blízkost. Publikum se může těšit na vystoupení\, které pohladí\, pobaví a připomene\, proč mají dobré české písničky stále své pevné místo na pódiích i v srdcích posluchačů.18:45–20:00 Honza Hrubý a HromosvodHonza Hrubý je výraznou osobností české hudební scény a jeho jméno je spojené s nezaměnitelným hudebním cítěním\, výrazným interpretačním rukopisem a mimořádnou muzikantskou zkušeností. Ve spojení s kapelou Hromosvod vzniká zajímavé a živé hudební setkání\, které propojuje kvalitní autorské písně\, silné melodie i poctivou koncertní energii. Posluchači se mohou těšit na vystoupení\, které nabídne hudební pestrost\, emoce i chytré texty. Tohle je koncert pro ty\, kdo mají rádi hudbu\, která má obsah\, atmosféru a osobnost.20:35–22:15 Tomáš Linka &amp\; Přímá linkaTomáš Linka patří k nejvýraznějším jménům české country scény a jeho koncerty jsou sázkou na jistotu pro všechny\, kdo mají rádi poctivou muziku\, silné melodie a příjemnou koncertní atmosféru. Se skupinou Přímá linka přináší energické vystoupení postavené na zkušenosti\, muzikantské jistotě a písních\, které si publikum dokáže užít naplno. Jejich koncert bývá plný dobré nálady\, rytmu a country muziky v podobě\, která oslovuje dlouholeté fanoušky i nové posluchače. Ideální tečka za programem\, která udrží náladu až do posledních tónů.Přijďte si užít den plný hudby\, vůně lesa a lázeňské pohody. Festival pro uši\, duši i srdce!Občerstvení zajištěno\, hudba hraje\, nálada stoupá – chybíte už jen VY!
LOCATION:Konstantinovy Lázně
END:VEVENT
END:VCALENDAR